

BEGIN:VCALENDAR
VERSION:2.0
PRODID:-//wp-events-plugin.com//7.2.3.1//EN
TZID:Pacific/Tahiti
X-WR-TIMEZONE:Pacific/Tahiti
BEGIN:VEVENT
UID:7@museetahiti.pf
DTSTART;VALUE=DATE:20150416
DTEND;VALUE=DATE:20150614
DTSTAMP:20260303T205103Z
URL:https://www.museetahiti.pf/evenements/ames-errantes-hommage-a-gauguin/
SUMMARY:Âmes errantes : hommage à Gauguin
DESCRIPTION:Du 16 avril au 13 juin 2015\, découvrez l'exposition d’art c
 ontemporain chinois "Âmes errantes : hommage à Gauguin".
ATTACH;FMTTYPE=image/jpeg:https://www.museetahiti.pf/wp-content/uploads/20
 17/10/Ame-errantes.png
CATEGORIES:Expositions au Musée
END:VEVENT
END:VCALENDAR