

BEGIN:VCALENDAR
VERSION:2.0
PRODID:-//wp-events-plugin.com//7.2.3.1//EN
TZID:Pacific/Tahiti
X-WR-TIMEZONE:Pacific/Tahiti
BEGIN:VEVENT
UID:10@museetahiti.pf
DTSTART;VALUE=DATE:20131204
DTEND;VALUE=DATE:20140525
DTSTAMP:20260303T233734Z
URL:https://www.museetahiti.pf/evenements/apres-gauguin/
SUMMARY:Après Gauguin
DESCRIPTION:Dans les réserves est conservée une collection dite « Beaux-
 arts » composée d’environ 200 œuvres qui témoignent de l’activité
  picturale en Polynésie au XXe siècle.
ATTACH;FMTTYPE=image/jpeg:https://www.museetahiti.pf/wp-content/uploads/20
 17/10/Apres-gaugin.png
CATEGORIES:Evènements au Musée,Expositions au Musée
LOCATION:#_LOCATIONNAME\, #_LOCATIONFULLLINE\, #_LOCATIONCOUNTRY
GEO:-17.632366139472094;-149.61389777459107
X-APPLE-STRUCTURED-LOCATION;VALUE=URI;X-ADDRESS=#_LOCATIONFULLLINE\, #_LOCA
 TIONCOUNTRY;X-APPLE-RADIUS=100;X-TITLE=#_LOCATIONNAME:geo:-17.632366139472
 094,-149.61389777459107
END:VEVENT
END:VCALENDAR