

BEGIN:VCALENDAR
VERSION:2.0
PRODID:-//wp-events-plugin.com//7.2.3.1//EN
TZID:Pacific/Tahiti
X-WR-TIMEZONE:Pacific/Tahiti
BEGIN:VEVENT
UID:11@museetahiti.pf
DTSTART:20121204T100000Z
DTEND:20130511T100000Z
DTSTAMP:20260303T202228Z
URL:https://www.museetahiti.pf/evenements/cook-1-2-3/
SUMMARY:cook 1.2.3.
DESCRIPTION:Pour commémorer l’arrivée de James Cook à Tahiti à l’oc
 casion du transit de Vénus de 1769\, une exposition de gravures et d’ob
 jets anciens se tiendra du 4 décembre 2012 au 18 mai 2013.
ATTACH;FMTTYPE=image/jpeg:https://www.museetahiti.pf/wp-content/uploads/20
 17/10/Cook.png
CATEGORIES:Expositions au Musée
END:VEVENT
END:VCALENDAR