

BEGIN:VCALENDAR
VERSION:2.0
PRODID:-//wp-events-plugin.com//7.2.3.1//EN
TZID:Pacific/Tahiti
X-WR-TIMEZONE:Pacific/Tahiti
BEGIN:VEVENT
UID:1@museetahiti.pf
DTSTART:20170907T190000Z
DTEND:20171208T030000Z
DTSTAMP:20260303T212215Z
URL:https://www.museetahiti.pf/evenements/exposition-paul-jacoulet/
SUMMARY:Un artiste voyageur en Micronésie
DESCRIPTION:Du 7 septembre au 10 décembre 2017\, suivez l'exposition Paul 
 Jacoulet au Musée de Tahiti et des îles. Une exposition conçue par le M
 usée du Quai Branly Jacques Chirac. 
ATTACH;FMTTYPE=image/jpeg:https://www.museetahiti.pf/wp-content/uploads/20
 17/08/Voyage.png
CATEGORIES:Expositions au Musée
END:VEVENT
END:VCALENDAR