

BEGIN:VCALENDAR
VERSION:2.0
PRODID:-//wp-events-plugin.com//7.2.3.1//EN
TZID:Pacific/Tahiti
X-WR-TIMEZONE:Pacific/Tahiti
BEGIN:VEVENT
UID:41@museetahiti.pf
DTSTART:20180101T190000Z
DTEND:20180917T030000Z
DTSTAMP:20260303T224948Z
URL:https://www.museetahiti.pf/evenements/exposition-permanente/
SUMMARY:Exposition permanente
DESCRIPTION:Les 4 salles d’exposition permanentes du Musée de Tahiti vou
 s proposent de découvrir les richesses de la Polynésie et sa culture.
ATTACH;FMTTYPE=image/jpeg:https://www.museetahiti.pf/wp-content/uploads/20
 18/03/Salle-permanente.png
CATEGORIES:Expositions au Musée
END:VEVENT
END:VCALENDAR